BEGIN:VCALENDAR
VERSION:2.0
PRODID:-//Gonzalo Braz - ECPv6.15.14//NONSGML v1.0//EN
CALSCALE:GREGORIAN
METHOD:PUBLISH
X-ORIGINAL-URL:https://www.gonzalobraz.com.ar
X-WR-CALDESC:Eventos para Gonzalo Braz
REFRESH-INTERVAL;VALUE=DURATION:PT1H
X-Robots-Tag:noindex
X-PUBLISHED-TTL:PT1H
BEGIN:VTIMEZONE
TZID:America/Argentina/Buenos_Aires
BEGIN:STANDARD
TZOFFSETFROM:-0300
TZOFFSETTO:-0300
TZNAME:-03
DTSTART:20240101T000000
END:STANDARD
END:VTIMEZONE
BEGIN:VEVENT
DTSTART;TZID=America/Argentina/Buenos_Aires:20251025T170000
DTEND;TZID=America/Argentina/Buenos_Aires:20251025T180000
DTSTAMP:20260423T122854
CREATED:20251018T002316Z
LAST-MODIFIED:20251024T180818Z
UID:3416-1761411600-1761415200@www.gonzalobraz.com.ar
SUMMARY:Extraños Probetas en Estación Verde
DESCRIPTION:Te esperamos con un evento especial en Estación Verde (al lado de la estación Coghlan). \n15:00hs – Tarot \n17:00hs – Atardecer suena la música en vivo con Extraños Probetas. Aires gypsy jazz y música ciudadana. Show a la gorra. \nViolín: Cecilia García\nClarinete: Gonzalo Braz\nGuitarra y composición: Diego Ferraro\nGuitarra 2: Mariano Pocorobba \nY para terminar la tarde\, música funk y disco de los años 70 en vinilos 🤯 \nPor supuesto\, todo esto acompañado de cafecito y cosas ricas para comer \n🌸Té de hibiscus frío\n🍦Afogatto\n🍊Orange Espresso \nY mucho más💚 \nTe esperamos para compartir una tarde mágica en Estación Verde\, 📍Estomba y Rivera\nSE SUSPENDE POR LLUVIA
URL:https://www.gonzalobraz.com.ar/event/extranos-probetas-en-estacion-verde/
LOCATION:Estación Verde\, C. Dr. Pedro I. Rivera & Estomba\, CABA\, Buenos Aires\, 1430\, Argentina
CATEGORIES:Concierto
ATTACH;FMTTYPE=image/jpeg:https://www.gonzalobraz.com.ar/wp-content/uploads/2025/10/WhatsApp-Image-2025-10-21-at-21.35.20.jpeg
END:VEVENT
END:VCALENDAR