BEGIN:VCALENDAR
VERSION:2.0
PRODID:-//Gonzalo Braz - ECPv6.15.14//NONSGML v1.0//EN
CALSCALE:GREGORIAN
METHOD:PUBLISH
X-ORIGINAL-URL:https://www.gonzalobraz.com.ar
X-WR-CALDESC:Eventos para Gonzalo Braz
REFRESH-INTERVAL;VALUE=DURATION:PT1H
X-Robots-Tag:noindex
X-PUBLISHED-TTL:PT1H
BEGIN:VTIMEZONE
TZID:America/Argentina/Buenos_Aires
BEGIN:STANDARD
TZOFFSETFROM:-0300
TZOFFSETTO:-0300
TZNAME:-03
DTSTART:20230101T000000
END:STANDARD
END:VTIMEZONE
BEGIN:VEVENT
DTSTART;TZID=America/Argentina/Buenos_Aires:20240707T190000
DTEND;TZID=America/Argentina/Buenos_Aires:20240707T203000
DTSTAMP:20260419T103412
CREATED:20240703T004732Z
LAST-MODIFIED:20240703T120815Z
UID:3101-1720378800-1720384200@www.gonzalobraz.com.ar
SUMMARY:La Tubatango - Teatro Martinelli
DESCRIPTION:La Tubatango en concierto\nLa mítica agrupación se presentará en el Teatro del municipio de San Fernando\n🎶 La Tubatango en Vivo 🎶 \n📅 Fecha: Domingo 7 de julio\n🕖 Hora: 19:00 hs\n📍 Lugar: Teatro Martinelli\, Ing. White y Lavalle\, Victoria. Municipalidad de San Fernando. \n¡Único show! A diferencia de nuestras presentaciones en milongas\, esta vez te invitamos a disfrutar de un espectáculo íntimo a la luz de un farol\, donde podrás vernos desde la comodidad de la platea\, ¡aunque si te animas podrás subir al escenario a bailar! ¡Traé tus zapatos! \nNo te lo pierdas\, ¡te esperamos! 💃🕺
URL:https://www.gonzalobraz.com.ar/event/la-tubatango-teatro-martinelli/
LOCATION:Teatro Municipal Julio Martinelli\, CTO\, Gral. Lavalle 3021\, San Fernando\, Buenos Aires\, 1646\, Argentina
CATEGORIES:Concierto,Tango
ATTACH;FMTTYPE=image/jpeg:https://www.gonzalobraz.com.ar/wp-content/uploads/2024/07/flyer-tuba-martinelli.jpg
END:VEVENT
END:VCALENDAR