BEGIN:VCALENDAR
VERSION:2.0
PRODID:-//Gonzalo Braz - ECPv6.15.14//NONSGML v1.0//EN
CALSCALE:GREGORIAN
METHOD:PUBLISH
X-WR-CALNAME:Gonzalo Braz
X-ORIGINAL-URL:https://www.gonzalobraz.com.ar
X-WR-CALDESC:Eventos para Gonzalo Braz
REFRESH-INTERVAL;VALUE=DURATION:PT1H
X-Robots-Tag:noindex
X-PUBLISHED-TTL:PT1H
BEGIN:VTIMEZONE
TZID:America/Argentina/Buenos_Aires
BEGIN:STANDARD
TZOFFSETFROM:-0300
TZOFFSETTO:-0300
TZNAME:-03
DTSTART:20220101T000000
END:STANDARD
END:VTIMEZONE
BEGIN:VEVENT
DTSTART;TZID=America/Argentina/Buenos_Aires:20230416T170000
DTEND;TZID=America/Argentina/Buenos_Aires:20230416T180000
DTSTAMP:20260420T055200
CREATED:20230327T225346Z
LAST-MODIFIED:20230327T231409Z
UID:2843-1681664400-1681668000@www.gonzalobraz.com.ar
SUMMARY:Quinteto de Academia en Giuffra
DESCRIPTION:Nuevo concepto sonoro para la Música Argentina.\nBandoneón\, flauta\, oboe\, clarinete y clarinete bajo interpretan nueva música argentina y originales arreglos de tangos\, milongas y valses\, en un lenguaje musical que rompe las barreras entre lo clásico y lo popular.\nNili Grieco: flauta\nPaula Llan de Rosos: Oboe\nFederico Randazzo: clarinete invitado\nGonzalo Braz: Clarinete bajo\nLeandro Ragusa: Bandoneón. \nNili Grieco: producción y dirección musical.\nLeandro Ragusa: Composición y arreglos. \nEntrada «al sobre».
URL:https://www.gonzalobraz.com.ar/event/quinteto-de-academia-en-giuffra/
LOCATION:Giuffra\, Pasaje Giuffra 371\, Ciudad Autónoma de Buenos Aires\, Buenos Aires\, 1064\, Argentina
CATEGORIES:Concierto
ATTACH;FMTTYPE=image/jpeg:https://www.gonzalobraz.com.ar/wp-content/uploads/2023/03/WhatsApp-Image-2023-03-26-at-16.06.56.jpeg
ORGANIZER;CN="Quinteto de Academia":MAILTO:quintetodeacademia@gmail.com
END:VEVENT
BEGIN:VEVENT
DTSTART;TZID=America/Argentina/Buenos_Aires:20230430T223000
DTEND;TZID=America/Argentina/Buenos_Aires:20230430T233000
DTSTAMP:20260420T055200
CREATED:20230407T203042Z
LAST-MODIFIED:20230407T203042Z
UID:2850-1682893800-1682897400@www.gonzalobraz.com.ar
SUMMARY:Quinteto de Academia en Nueva Uriarte
DESCRIPTION:Centro Cultural Nueva Uriarte (CCNU)\nDomingo 30 de abril\n22:30hs. \nNuevo concepto sonoro para la Música Argentina.\nBandoneón\, flauta\, oboe\, clarinete y clarinete bajo interpretan nueva música argentina y originales arreglos de tangos\, milongas y valses\, en un lenguaje musical que rompe las barreras entre lo clásico y lo popular. \n\nNili Grieco: flauta\nPaula Llan de Rosos: Oboe\nFederico Randazzo: clarinete\nGonzalo Braz: Clarinete bajo\nLeandro Ragusa: Bandoneón. \nNili Grieco: producción y dirección musical.\nLeandro Ragusa: Composición y arreglos. \nLas entradas se pueden adquirir desde el link de la publicación.
URL:https://www.gonzalobraz.com.ar/event/quinteto-de-academia-en-nueva-uriarte/
LOCATION:Centro Cultural Nueva Uriarte\, Uriarte 1289\, Ciudad Autónoma de Buenos Aires\, Buenos Aires\, 1414\, Argentina
CATEGORIES:Concierto,Tango
ATTACH;FMTTYPE=image/jpeg:https://www.gonzalobraz.com.ar/wp-content/uploads/2023/04/Quinteto-de-Academia-en-CCNU.jpg
ORGANIZER;CN="Quinteto de Academia":MAILTO:quintetodeacademia@gmail.com
END:VEVENT
END:VCALENDAR