BEGIN:VCALENDAR
VERSION:2.0
PRODID:-//Gonzalo Braz - ECPv6.15.14//NONSGML v1.0//EN
CALSCALE:GREGORIAN
METHOD:PUBLISH
X-ORIGINAL-URL:https://www.gonzalobraz.com.ar
X-WR-CALDESC:Eventos para Gonzalo Braz
REFRESH-INTERVAL;VALUE=DURATION:PT1H
X-Robots-Tag:noindex
X-PUBLISHED-TTL:PT1H
BEGIN:VTIMEZONE
TZID:America/Argentina/Buenos_Aires
BEGIN:STANDARD
TZOFFSETFROM:-0300
TZOFFSETTO:-0300
TZNAME:-03
DTSTART:20210101T000000
END:STANDARD
END:VTIMEZONE
BEGIN:VEVENT
DTSTART;TZID=America/Argentina/Buenos_Aires:20220827T220000
DTEND;TZID=America/Argentina/Buenos_Aires:20220828T013000
DTSTAMP:20260424T083956
CREATED:20220821T043549Z
LAST-MODIFIED:20220821T043549Z
UID:2667-1661637600-1661650200@www.gonzalobraz.com.ar
SUMMARY:La Tubatango en ZonaTango
DESCRIPTION:Para quienes no pudieron asistir a nuestro último show y para quienes quieran repetir una GRAN NOCHE de música\, baile y disfrute\, ya tenemos nueva cita programada!\nNos presentamos con La Tuba para otra noche inolvidable de tango!\nCuando?  Sábado 27 de Agosto.\nDonde?  Milonga «Zona Tango» Te enviamos la dirección vía Inbox!\n(calle Venezuela\, CABA)
URL:https://www.gonzalobraz.com.ar/event/la-tubatango-en-zonatango/
LOCATION:Buenos Aires
CATEGORIES:Concierto,Danza
ATTACH;FMTTYPE=image/jpeg:https://www.gonzalobraz.com.ar/wp-content/uploads/2022/08/flyer-Tuba-Zonatango.jpg
END:VEVENT
END:VCALENDAR