BEGIN:VCALENDAR
VERSION:2.0
PRODID:-//Gonzalo Braz - ECPv6.15.14//NONSGML v1.0//EN
CALSCALE:GREGORIAN
METHOD:PUBLISH
X-WR-CALNAME:Gonzalo Braz
X-ORIGINAL-URL:https://www.gonzalobraz.com.ar
X-WR-CALDESC:Eventos para Gonzalo Braz
REFRESH-INTERVAL;VALUE=DURATION:PT1H
X-Robots-Tag:noindex
X-PUBLISHED-TTL:PT1H
BEGIN:VTIMEZONE
TZID:America/Argentina/Buenos_Aires
BEGIN:STANDARD
TZOFFSETFROM:-0300
TZOFFSETTO:-0300
TZNAME:-03
DTSTART:20230101T000000
END:STANDARD
END:VTIMEZONE
BEGIN:VEVENT
DTSTART;TZID=America/Argentina/Buenos_Aires:20240518T210000
DTEND;TZID=America/Argentina/Buenos_Aires:20240519T210000
DTSTAMP:20260421T135520
CREATED:20240510T041750Z
LAST-MODIFIED:20240510T041750Z
UID:3082-1716066000-1716152400@www.gonzalobraz.com.ar
SUMMARY:La Tubatango en Marcos Paz
DESCRIPTION:El viernes 18 atentos Marcos Paz y alrededores!\nLa Tubatango en La Beba milonga. \nLos esperamos con la mejor energía para bailar toda la noche. Tango\, Milonga\, Vals\, Folklore y más…💃🕺\nMilongueamos con la música en vivo de los genios @tubatango y la voz del gran cantor el @cardenal_dominguez\nMuestra de Arte Efímero » El abrazo en el Oeste @rosana_arte_yoga\nBuffet económico…Sorteos y …muchas sorpresas más!!!\nPaseo Cultural de Avellaneda y Roca…..sumate al Tango Social y milonguero!! \nInvitan-promueven: Maxi Casa y Daniela Mansilla\nEntrada A LA GORRA!‼️ \nInformes\n1161110082\n1130187661\nAcompaña Subsecretaria de Cultura Municipal de Marcos Paz
URL:https://www.gonzalobraz.com.ar/event/la-tubatango-en-marcos-paz/
LOCATION:Paseo Cultural El Galpón\, Avellaneda 2377\, Marcos Paz\, Buenos Aires\, B1727HZU\, Argentina
CATEGORIES:Concierto,Danza,Tango
ATTACH;FMTTYPE=image/jpeg:https://www.gonzalobraz.com.ar/wp-content/uploads/2024/05/flyer-marcos-paz.jpg
END:VEVENT
END:VCALENDAR