BEGIN:VCALENDAR
VERSION:2.0
PRODID:-//Gonzalo Braz - ECPv6.15.14//NONSGML v1.0//EN
CALSCALE:GREGORIAN
METHOD:PUBLISH
X-ORIGINAL-URL:https://www.gonzalobraz.com.ar
X-WR-CALDESC:Eventos para Gonzalo Braz
REFRESH-INTERVAL;VALUE=DURATION:PT1H
X-Robots-Tag:noindex
X-PUBLISHED-TTL:PT1H
BEGIN:VTIMEZONE
TZID:America/Argentina/Buenos_Aires
BEGIN:STANDARD
TZOFFSETFROM:-0300
TZOFFSETTO:-0300
TZNAME:-03
DTSTART:20230101T000000
END:STANDARD
END:VTIMEZONE
BEGIN:VEVENT
DTSTART;TZID=America/Argentina/Buenos_Aires:20240419T210000
DTEND;TZID=America/Argentina/Buenos_Aires:20240420T020000
DTSTAMP:20260421T151234
CREATED:20240413T170540Z
LAST-MODIFIED:20240413T170540Z
UID:3057-1713560400-1713578400@www.gonzalobraz.com.ar
SUMMARY:La Tubatango en La Bullanguera Milonga
DESCRIPTION:Prepara los tamangos y los abrazos y venite a compartir una magnifica velada en la rivera junto a LA TUBATANGO. \n21hs clase\n22hs milonga\n24hs show de LA TUBATANGO \nComida y bebidas y Feria de ropa. \nGARIBALDI 1670-Republica popular de La Boca\n@malevaje.arteclub \n💸Entrada: anticipada 1500/puerta 2000 \nCualquier 🚍 te arrima\n53\, 86\, 29\, 64\, 25\, 152\, 20\, 33\, 46 y 8
URL:https://www.gonzalobraz.com.ar/event/la-tubatango-en-la-bullanguera-milonga/
LOCATION:Malevaje\, Garibaldi 1670\, CABA\, Buenos Aires\, 1155\, Argentina
CATEGORIES:Concierto,Danza,Milonga,Recital,Tango
ATTACH;FMTTYPE=image/jpeg:https://www.gonzalobraz.com.ar/wp-content/uploads/2024/04/Flyer-Bullanguera.jpg
END:VEVENT
END:VCALENDAR