BEGIN:VCALENDAR
VERSION:2.0
PRODID:-//Gonzalo Braz - ECPv6.15.14//NONSGML v1.0//EN
CALSCALE:GREGORIAN
METHOD:PUBLISH
X-ORIGINAL-URL:https://www.gonzalobraz.com.ar
X-WR-CALDESC:Eventos para Gonzalo Braz
REFRESH-INTERVAL;VALUE=DURATION:PT1H
X-Robots-Tag:noindex
X-PUBLISHED-TTL:PT1H
BEGIN:VTIMEZONE
TZID:America/Argentina/Buenos_Aires
BEGIN:STANDARD
TZOFFSETFROM:-0300
TZOFFSETTO:-0300
TZNAME:-03
DTSTART:20230101T000000
END:STANDARD
END:VTIMEZONE
BEGIN:VEVENT
DTSTART;TZID=America/Argentina/Buenos_Aires:20240227T200000
DTEND;TZID=America/Argentina/Buenos_Aires:20240227T233000
DTSTAMP:20260421T173224
CREATED:20240228T235132Z
LAST-MODIFIED:20240229T000259Z
UID:3033-1709064000-1709076600@www.gonzalobraz.com.ar
SUMMARY:La Tubatango en Tiempos de Memoria
DESCRIPTION:Este martes 27 de febrero nos presentaremos en el Centro Cultural Tiempos de Memoria @cctiemposdememoria\n\n20hs clase con Lorena Medina\n21:30hs milonga y show de La @tubatango \n\nCaseros 231\, Florida\, Vicente López.\nTe esperamos para tubatanguear!
URL:https://www.gonzalobraz.com.ar/event/la-tubatango-en-tiempos-de-memoria-2/
LOCATION:Centro Cultural Tiempos de Memoria\, Caseros 231\, Florida\, Buenos Aires\, B1602\, Argentina
CATEGORIES:Concierto,Danza,Milonga,Tango
ATTACH;FMTTYPE=image/jpeg:https://www.gonzalobraz.com.ar/wp-content/uploads/2024/02/tiempos-de-memoria.jpg
END:VEVENT
END:VCALENDAR