BEGIN:VCALENDAR
VERSION:2.0
PRODID:-//Gonzalo Braz - ECPv6.15.14//NONSGML v1.0//EN
CALSCALE:GREGORIAN
METHOD:PUBLISH
X-ORIGINAL-URL:https://www.gonzalobraz.com.ar
X-WR-CALDESC:Eventos para Gonzalo Braz
REFRESH-INTERVAL;VALUE=DURATION:PT1H
X-Robots-Tag:noindex
X-PUBLISHED-TTL:PT1H
BEGIN:VTIMEZONE
TZID:America/Argentina/Buenos_Aires
BEGIN:STANDARD
TZOFFSETFROM:-0300
TZOFFSETTO:-0300
TZNAME:-03
DTSTART:20220101T000000
END:STANDARD
END:VTIMEZONE
BEGIN:VEVENT
DTSTART;TZID=America/Argentina/Buenos_Aires:20231216T220000
DTEND;TZID=America/Argentina/Buenos_Aires:20231217T013000
DTSTAMP:20260421T200948
CREATED:20231123T013708Z
LAST-MODIFIED:20231123T015946Z
UID:3026-1702764000-1702776600@www.gonzalobraz.com.ar
SUMMARY:La Tubatango en Pilar
DESCRIPTION:Noche de milonga en zona norte! «Milonga de Pilar».\nQuizás nuestra última presentación del año. Los esperamos para brindar y seguir bailando.\n\nReservas al:\n11-4424-3991\n\nTUBATANGO\nIgnacio Risso – Tuba\nGonzalo Braz – Clarinete\nMatías Rullo – Bandoneón\nLucas Kohan – Guitarra
URL:https://www.gonzalobraz.com.ar/event/la-tubatango-en-pilar/
LOCATION:Club Atlético Pilar\, Ituzaingó 759\, Pilar\, Buenos Aires\, 1629\, Argentina
CATEGORIES:Danza,Milonga,Tango
ATTACH;FMTTYPE=image/jpeg:https://www.gonzalobraz.com.ar/wp-content/uploads/2023/11/flyer-Pilar.jpg
END:VEVENT
END:VCALENDAR