BEGIN:VCALENDAR
VERSION:2.0
PRODID:-//Gonzalo Braz - ECPv6.15.14//NONSGML v1.0//EN
CALSCALE:GREGORIAN
METHOD:PUBLISH
X-WR-CALNAME:Gonzalo Braz
X-ORIGINAL-URL:https://www.gonzalobraz.com.ar
X-WR-CALDESC:Eventos para Gonzalo Braz
REFRESH-INTERVAL;VALUE=DURATION:PT1H
X-Robots-Tag:noindex
X-PUBLISHED-TTL:PT1H
BEGIN:VTIMEZONE
TZID:America/Argentina/Buenos_Aires
BEGIN:STANDARD
TZOFFSETFROM:-0300
TZOFFSETTO:-0300
TZNAME:-03
DTSTART:20220101T000000
END:STANDARD
END:VTIMEZONE
BEGIN:VEVENT
DTSTART;TZID=America/Argentina/Buenos_Aires:20230812T194500
DTEND;TZID=America/Argentina/Buenos_Aires:20230812T210000
DTSTAMP:20260422T012459
CREATED:20230803T000909Z
LAST-MODIFIED:20230811T011021Z
UID:2961-1691869500-1691874000@www.gonzalobraz.com.ar
SUMMARY:Quinteto de Academia en Ramos Mejía
DESCRIPTION:Seguimos agregando obras de caracter más bailable a nuestro clásico repertorio de concierto. Haremos algunos estrenos. Esperamos nos puedan acompañar por zona oeste.\nEntrada libre y gratuita.\n\nEl Quinteto de Academia tiene como objetivo acercar una nueva experiencia sonora en la interpretación del tango y música argentina. Tanto en composiciones propias como arreglos originales.\nLogrando derribar la barrera entre la música académica y la popular.\n\nCantor invitado: Pablo «Pulpo» Pereyra\nNili Grieco: flauta\nPaula Llan de Rosos: Oboe\nFederico Randazzo: clarinete\nGonzalo Braz: Clarinete bajo\nLeandro Ragusa: Bandoneón\nNili Grieco: producción y dirección musical.\nLeandro Ragusa: Composición y arreglos.
URL:https://www.gonzalobraz.com.ar/event/quinteto-de-academia-en-ramos-mejia/
LOCATION:Sociedad de Socorros Mutuos de Ramos Mejía\, Avenida General San Martín 327\, Ramos Mejía\, Buenos Aires\, 1704\, Argentina
CATEGORIES:Concierto,Tango
ATTACH;FMTTYPE=image/jpeg:https://www.gonzalobraz.com.ar/wp-content/uploads/2023/08/Imagen-de-WhatsApp-2023-08-09-a-las-19.47.23.jpg
ORGANIZER;CN="Quinteto de Academia":MAILTO:quintetodeacademia@gmail.com
END:VEVENT
BEGIN:VEVENT
DTSTART;TZID=America/Argentina/Buenos_Aires:20230820T170000
DTEND;TZID=America/Argentina/Buenos_Aires:20230820T180000
DTSTAMP:20260422T012459
CREATED:20230719T131318Z
LAST-MODIFIED:20230811T010953Z
UID:2954-1692550800-1692554400@www.gonzalobraz.com.ar
SUMMARY:Quinteto de Academia en Giuffra
DESCRIPTION:Nuevo concepto sonoro para la Música Argentina\n\nQUINTETO DE ACADEMIA se forma en el 2016 con el objeto de acercar una nueva experiencia sonora en la interpretación de Tango y Música Argentina\, ofreciendo al público composiciones propias y versiones de tangos\, milongas\, valses y temas tradicionales del género.\nDerribando las barreras que existen entre la música académica y la popular\, el Quinteto de Academia ha editado su primer álbum “Dinámica del Viento” (2017). Por la originalidad de los instrumentos que lo componen (Bandoneón + Cuarteto de Maderas – flauta\, oboe\, clarinete y clarinete bajo)\, se presenta como el primer ensamble de cámara de estas características.\nEn esta oportunidad además de su repertorio tradicional de obras de concierto suman tangos bailables.\n\nMúsicos\nNili Grieco: flauta\nPaula Llan de Rosos: Oboe\nFederico Randazzo: clarinete\nGonzalo Braz: Clarinete bajo\nLeandro Ragusa: Bandoneón\n\nNili Grieco: producción y dirección musical.\nLeandro Ragusa: Composición y arreglos.Entrada al sobre
URL:https://www.gonzalobraz.com.ar/event/quinteto-de-academia-en-giuffra-2/
LOCATION:Giuffra\, Pasaje Giuffra 371\, Ciudad Autónoma de Buenos Aires\, Buenos Aires\, 1064\, Argentina
CATEGORIES:Concierto,Tango
ATTACH;FMTTYPE=image/jpeg:https://www.gonzalobraz.com.ar/wp-content/uploads/2023/07/QdA-en-Giuffra.jpg
ORGANIZER;CN="Quinteto de Academia":MAILTO:quintetodeacademia@gmail.com
END:VEVENT
END:VCALENDAR