BEGIN:VCALENDAR
VERSION:2.0
PRODID:-//Gonzalo Braz - ECPv6.15.14//NONSGML v1.0//EN
CALSCALE:GREGORIAN
METHOD:PUBLISH
X-ORIGINAL-URL:https://www.gonzalobraz.com.ar
X-WR-CALDESC:Eventos para Gonzalo Braz
REFRESH-INTERVAL;VALUE=DURATION:PT1H
X-Robots-Tag:noindex
X-PUBLISHED-TTL:PT1H
BEGIN:VTIMEZONE
TZID:America/Argentina/Buenos_Aires
BEGIN:STANDARD
TZOFFSETFROM:-0300
TZOFFSETTO:-0300
TZNAME:-03
DTSTART:20220101T000000
END:STANDARD
END:VTIMEZONE
BEGIN:VEVENT
DTSTART;TZID=America/Argentina/Buenos_Aires:20230707T213000
DTEND;TZID=America/Argentina/Buenos_Aires:20230707T223000
DTSTAMP:20260422T025522
CREATED:20230623T020705Z
LAST-MODIFIED:20230623T021509Z
UID:2921-1688765400-1688769000@www.gonzalobraz.com.ar
SUMMARY:Quinteto de Academia en Café Vinilo
DESCRIPTION:Nuevo concepto sonoro para la Música Argentina\nQUINTETO DE ACADEMIA se forma en el 2016 con el objeto de acercar una nueva experiencia sonora en la interpretación de Tango y Música Argentina\, ofreciendo al público composiciones propias y versiones de tangos\, milongas\, valses y temas tradicionales del género.\nDerribando las barreras que existen entre la música académica y la popular\, el Quinteto de Academia ha editado su primer álbum “Dinámica del Viento” (2017). Por la originalidad de los instrumentos que lo componen (Bandoneón + Cuarteto de Maderas – flauta\, oboe\, clarinete y clarinete bajo)\, se presenta como el primer ensamble de cámara de estas características.\n\nMúsicos\nNili Grieco: flauta\nPaula Llan de Rosos: Oboe\nFederico Randazzo: clarinete\nGonzalo Braz: Clarinete bajo\nLeandro Ragusa: Bandoneón.\nNili Grieco: producción y dirección musical.\nLeandro Ragusa: Composición y arreglos.
URL:https://www.gonzalobraz.com.ar/event/quinteto-de-academia-en-cafe-vinilo/
LOCATION:Café Vinilo\, Estados Unidos 2483\, CABA\, Buenos Aires\, 1227\, Argentina
CATEGORIES:Concierto,Tango
ATTACH;FMTTYPE=image/jpeg:https://www.gonzalobraz.com.ar/wp-content/uploads/2023/06/Quinteto-de-Academia-en-Vinilo.jpg
ORGANIZER;CN="Quinteto de Academia":MAILTO:quintetodeacademia@gmail.com
END:VEVENT
BEGIN:VEVENT
DTSTART;TZID=America/Argentina/Buenos_Aires:20230714T203000
DTEND;TZID=America/Argentina/Buenos_Aires:20230714T235000
DTSTAMP:20260422T025522
CREATED:20230713T023628Z
LAST-MODIFIED:20230713T025749Z
UID:2949-1689366600-1689378600@www.gonzalobraz.com.ar
SUMMARY:Quinteto de Academia en milonga Cañón
DESCRIPTION:Nuevo concepto sonoro para la Música Argentina\n\nQUINTETO DE ACADEMIA se forma en el 2016 con el objeto de acercar una nueva experiencia sonora en la interpretación de Tango y Música Argentina\, ofreciendo al público composiciones propias y versiones de tangos\, milongas\, valses y temas tradicionales del género.\nDerribando las barreras que existen entre la música académica y la popular\, el Quinteto de Academia ha editado su primer álbum “Dinámica del Viento” (2017). Por la originalidad de los instrumentos que lo componen (Bandoneón + Cuarteto de Maderas – flauta\, oboe\, clarinete y clarinete bajo)\, se presenta como el primer ensamble de cámara de estas características.\n\nEn esta oportunidad además de su repertorio tradicional de obras de concierto suman tangos bailables.\n\n20.30hs clase\n22.00hs milonga\n23.00hs Quinteto de Academia\n\nMúsicos\nNili Grieco: flauta\nPaula Llan de Rosos: Oboe\nFederico Randazzo: clarinete\nGonzalo Braz: Clarinete bajo\nLeandro Ragusa: Bandoneón\nNili Grieco: producción y dirección musical.\nLeandro Ragusa: Composición y arreglos.Organiza la Milonga Cañón: Julio Coviello.
URL:https://www.gonzalobraz.com.ar/event/quinteto-de-academia-en-milonga-canon/
LOCATION:La Tierra Invisible\, Del Barco Centenera 1099\, CABA\, Buenos Aires\, 1424\, Argentina
CATEGORIES:Concierto,Milonga,Tango
ATTACH;FMTTYPE=image/jpeg:https://www.gonzalobraz.com.ar/wp-content/uploads/2023/07/QdA-en-Canon.jpg
ORGANIZER;CN="Quinteto de Academia":MAILTO:quintetodeacademia@gmail.com
END:VEVENT
END:VCALENDAR