BEGIN:VCALENDAR
VERSION:2.0
PRODID:-//Gonzalo Braz - ECPv6.15.14//NONSGML v1.0//EN
CALSCALE:GREGORIAN
METHOD:PUBLISH
X-WR-CALNAME:Gonzalo Braz
X-ORIGINAL-URL:https://www.gonzalobraz.com.ar
X-WR-CALDESC:Eventos para Gonzalo Braz
REFRESH-INTERVAL;VALUE=DURATION:PT1H
X-Robots-Tag:noindex
X-PUBLISHED-TTL:PT1H
BEGIN:VTIMEZONE
TZID:America/Argentina/Buenos_Aires
BEGIN:STANDARD
TZOFFSETFROM:-0300
TZOFFSETTO:-0300
TZNAME:-03
DTSTART:20220101T000000
END:STANDARD
END:VTIMEZONE
BEGIN:VEVENT
DTSTART;TZID=America/Argentina/Buenos_Aires:20230507T170000
DTEND;TZID=America/Argentina/Buenos_Aires:20230507T180000
DTSTAMP:20260422T054253
CREATED:20230428T152509Z
LAST-MODIFIED:20230428T152509Z
UID:2870-1683478800-1683482400@www.gonzalobraz.com.ar
SUMMARY:Quinteto de Academia en Parroquia Sagrada Eucaristía
DESCRIPTION:El tango se confiesa. Concierto de purificación sonora en la parroquia de Plaza Italia. \nNuevo concepto sonoro para la Música Argentina.\nBandoneón\, flauta\, oboe\, clarinete y clarinete bajo interpretan nueva música argentina y originales arreglos de tangos\, milongas y valses\, en un lenguaje musical que rompe las barreras entre lo clásico y lo popular. \nNili Grieco: flauta\nPaula Llan de Rosos: Oboe\nFederico Randazzo: clarinete\nGonzalo Braz: Clarinete bajo\nLeandro Ragusa: Bandoneón. \nNili Grieco: producción y dirección musical.\nLeandro Ragusa: Composición y arreglos. \nEntrada libre y gratuita.
URL:https://www.gonzalobraz.com.ar/event/quinteto-de-academia-en-parroquia-sagrada-eucaristia/
LOCATION:Parroquia Sagrada Eucaristía\, Av. Santa Fe 4320\, CABA\, Buenos Aires\, 1425\, Argentina
CATEGORIES:Concierto,Tango
ATTACH;FMTTYPE=image/jpeg:https://www.gonzalobraz.com.ar/wp-content/uploads/2023/04/quinteto-parroquia.jpg
ORGANIZER;CN="Quinteto de Academia":MAILTO:quintetodeacademia@gmail.com
END:VEVENT
END:VCALENDAR