BEGIN:VCALENDAR
VERSION:2.0
PRODID:-//Gonzalo Braz - ECPv6.15.14//NONSGML v1.0//EN
CALSCALE:GREGORIAN
METHOD:PUBLISH
X-ORIGINAL-URL:https://www.gonzalobraz.com.ar
X-WR-CALDESC:Eventos para Gonzalo Braz
REFRESH-INTERVAL;VALUE=DURATION:PT1H
X-Robots-Tag:noindex
X-PUBLISHED-TTL:PT1H
BEGIN:VTIMEZONE
TZID:America/Argentina/Buenos_Aires
BEGIN:STANDARD
TZOFFSETFROM:-0300
TZOFFSETTO:-0300
TZNAME:-03
DTSTART:20250101T000000
END:STANDARD
END:VTIMEZONE
BEGIN:VEVENT
DTSTART;TZID=America/Argentina/Buenos_Aires:20260228T200000
DTEND;TZID=America/Argentina/Buenos_Aires:20260228T213000
DTSTAMP:20260424T083732
CREATED:20260125T202228Z
LAST-MODIFIED:20260224T192254Z
UID:3489-1772308800-1772314200@www.gonzalobraz.com.ar
SUMMARY:El Viaje Sinfónico - Estudio Ghibli
DESCRIPTION:A PEDIDO DEL PÚBLICO NUEVA FUNCIÓN!! \nEl Viaje Sinfónico\n¡Sumergite en el universo de Studio Ghibli con un concierto homenaje único! \nDespués del éxito de su estreno mundial en Argentina en 2025\, vuelve el espectáculo que hizo vibrar a miles de espectadores. Un espectáculo emocionante que recorrerá la obra del estudio de animación más emblemático de Japón. Brindando homenaje al cine de Miyazaki y Hisaishi\, donde confluyen la magia de las obras del gran Studio Ghibli con la emoción de la música en vivo\, que será interpretada en su máximo esplendor por una orquesta sinfónica de primer nivel dirigida por la Maestra Clara Ackermann. La idea y dirección general es de Chacho Garabal. \nDe esta forma\, el público podrá disfrutar de la música de las más célebres bandas sonoras como «Mi vecino Totoro»\, «La Princesa Mononoke»\, y «El viaje de Chihiro»\, entre otras\, acompañadas de proyecciones de escenas icónicas. \nPensado para todas las edades\, «El viaje sinfónico» es una oportunidad imperdible para que fanáticos de la animación japonesa y amantes de la música sinfónica disfruten juntos de un espectáculo de alto impacto. Ya sea reviviendo la emoción de las películas o descubriendo por primera vez la grandeza de su música en vivo. \nORQUESTA:\nVOZ\nMirta Arrrua Lichi\nFLAUTA\nJuan Sebastian Rizo\nCLARINETE\nGonzalo Braz\nSAXO\nIgnacio Javier Oliva\nTROMPETA\nBruno Espinola\nTROMBÓN\nLautaro Quipildor\nVIOLINES\nAlexander Corrales Figueroa; Pablo Borghi; Pedro Sotelo; Juri Nakamura; María Luz Merlo; Nicole Tezcan; Lourdes Daniela González; Lucas Ismael Flores; Juan Pablo Lezcano; Francisco Chocobar Molina e Iván Ezequiel Gómez Lopez\nVIOLAS\nJaquelina Ingrid Aylin Mamaní; Olga Kneeteman; Luz Marina García Souto; Agustina Alejandra Juarez y Catalina María Aranguiz Esmoris\nCELLOS\nLucia Mammarella; Maria Belén Cardozo; Jason Steven Pérez Cea; Bruno D’Ambrosio y Julieta Evelin López\nCONTRABAJO\nHernan Joaquin Maisa y Ayax Raúl Bruno Sosa\nGUITARRA\nAlejandro Starosielski\nPIANO\nBárbara Gilles\nBATERÍA\nAgustín Lumerman \nDirección musical: Clara Ackermann \nEntradas $29.200.-
URL:https://www.gonzalobraz.com.ar/event/el-viaje-sinfonico-estudio-ghibli/
LOCATION:Auditorio de Belgrano\, Virrey Loreto 2348\, Ciudad Autónoma de Buenos Aires\, Buenos Aires\, 1426\, Argentina
CATEGORIES:Concierto,Danza
ATTACH;FMTTYPE=image/jpeg:https://www.gonzalobraz.com.ar/wp-content/uploads/2026/01/617523276_18066535559632042_4120106184857571532_n.jpg
END:VEVENT
END:VCALENDAR