BEGIN:VCALENDAR
VERSION:2.0
PRODID:-//Gonzalo Braz - ECPv6.15.14//NONSGML v1.0//EN
CALSCALE:GREGORIAN
METHOD:PUBLISH
X-ORIGINAL-URL:https://www.gonzalobraz.com.ar
X-WR-CALDESC:Eventos para Gonzalo Braz
REFRESH-INTERVAL;VALUE=DURATION:PT1H
X-Robots-Tag:noindex
X-PUBLISHED-TTL:PT1H
BEGIN:VTIMEZONE
TZID:America/Argentina/Buenos_Aires
BEGIN:STANDARD
TZOFFSETFROM:-0300
TZOFFSETTO:-0300
TZNAME:-03
DTSTART:20240101T000000
END:STANDARD
END:VTIMEZONE
BEGIN:VEVENT
DTSTART;TZID=America/Argentina/Buenos_Aires:20251106T223000
DTEND;TZID=America/Argentina/Buenos_Aires:20251106T233000
DTSTAMP:20260424T120720
CREATED:20250902T002721Z
LAST-MODIFIED:20251010T133445Z
UID:3326-1762468200-1762471800@www.gonzalobraz.com.ar
SUMMARY:Praevaricatio 7 – Ítaca Teatro #2
DESCRIPTION:Praevaricatio 7 es una obra de arte vanguardista minimalista que explora las transgresiones humanas a través de una experiencia sensorial. Integrando música en vivo\, danza\, palabra y visuales\, invitando al espectador a una inmersión emocional y reflexiva\, sumergiéndose en su propio mundo interno\, generando sensaciones profundas y vínculos con lo escénico. La obra se inspira en los siete pecados capitales y sus opuestos\, no desde el dogma religioso\, sino como transgresiones inherentes al ser humano. Cada escena despliega una experiencia sensorial mediante:\nLenguajes corporales: danza butoh\, mixturas danzadas\, contact\, etc.\nLenguajes vocales: palabra\, sonidos\, entonaciones.\nLenguajes musicales: planos sonoros\, texturas y ambientaciones.\nLenguajes sensoriales: iluminación\, imagen\, aromas\, texturas \nImprovisación dirigida sobre estructura narrativa. Uso de elementos escenográficos\, FX sensoriales (aromas\, luces\, texturas)\, proyecciones visuales. \nMúsicos:\nClarinete y clarinete bajo: Gonzalo Braz\nCello: Ariel Hagman\nPercusión: Matías Moreno Kukurov \nMovimiento Escénico:\nMarina Magistrello\, Marisa Pájaro\, Atilio Schweizer \nPuesta en escena y dirección general:\nClara Mastrango Thau
URL:https://www.gonzalobraz.com.ar/event/praevaricatio-7-itaca-teatro-2/
LOCATION:Ítaca Teatro\, Humahuaca 4027\, CABA\, Buenos Aires\, 1192\, Argentina
CATEGORIES:Danza,Teatro Musical
ATTACH;FMTTYPE=image/jpeg:https://www.gonzalobraz.com.ar/wp-content/uploads/2025/09/PRAEVARICATIO-7-2.jpg
ORGANIZER;CN="Braz Producciones":MAILTO:info@gonzalobraz.com.ar
END:VEVENT
BEGIN:VEVENT
DTSTART;TZID=America/Argentina/Buenos_Aires:20251113T223000
DTEND;TZID=America/Argentina/Buenos_Aires:20251113T233000
DTSTAMP:20260424T120720
CREATED:20250902T002903Z
LAST-MODIFIED:20251112T002522Z
UID:3328-1763073000-1763076600@www.gonzalobraz.com.ar
SUMMARY:Praevaricatio 7 – Ítaca Teatro #3
DESCRIPTION:Praevaricatio 7 es una obra de arte vanguardista minimalista que explora las transgresiones humanas a través de una experiencia sensorial. Integrando música en vivo\, danza\, palabra y visuales\, invitando al espectador a una inmersión emocional y reflexiva\, sumergiéndose en su propio mundo interno\, generando sensaciones profundas y vínculos con lo escénico. La obra se inspira en los siete pecados capitales y sus opuestos\, no desde el dogma religioso\, sino como transgresiones inherentes al ser humano. Cada escena despliega una experiencia sensorial mediante:\nLenguajes corporales: danza butoh\, mixturas danzadas\, contact\, etc.\nLenguajes vocales: palabra\, sonidos\, entonaciones.\nLenguajes musicales: planos sonoros\, texturas y ambientaciones.\nLenguajes sensoriales: iluminación\, imagen\, aromas\, texturas \nImprovisación dirigida sobre estructura narrativa. Uso de elementos escenográficos\, FX sensoriales (aromas\, luces\, texturas)\, proyecciones visuales. \nMúsicos:\nClarinete y clarinete bajo: Gonzalo Braz\nCello: Ariel Hagman\nPercusión: Matías Moreno Kukurov \nMovimiento Escénico:\nMarina Magistrello\, Marisa Pájaro\, Atilio Schweizer \nPuesta en escena y dirección general:\nClara Mastrango Thau \nDijo la crítica
URL:https://www.gonzalobraz.com.ar/event/praevaricatio-7-itaca-teatro-3/
LOCATION:Ítaca Teatro\, Humahuaca 4027\, CABA\, Buenos Aires\, 1192\, Argentina
CATEGORIES:Danza,Teatro Musical
ATTACH;FMTTYPE=image/jpeg:https://www.gonzalobraz.com.ar/wp-content/uploads/2025/09/PRAEVARICATIO-7-2.jpg
ORGANIZER;CN="Braz Producciones":MAILTO:info@gonzalobraz.com.ar
END:VEVENT
BEGIN:VEVENT
DTSTART;TZID=America/Argentina/Buenos_Aires:20251120T223000
DTEND;TZID=America/Argentina/Buenos_Aires:20251120T233000
DTSTAMP:20260424T120720
CREATED:20250902T003025Z
LAST-MODIFIED:20251112T002510Z
UID:3330-1763677800-1763681400@www.gonzalobraz.com.ar
SUMMARY:Praevaricatio 7 – Ítaca Teatro #4
DESCRIPTION:Praevaricatio 7 es una obra de arte vanguardista minimalista que explora las transgresiones humanas a través de una experiencia sensorial. Integrando música en vivo\, danza\, palabra y visuales\, invitando al espectador a una inmersión emocional y reflexiva\, sumergiéndose en su propio mundo interno\, generando sensaciones profundas y vínculos con lo escénico. La obra se inspira en los siete pecados capitales y sus opuestos\, no desde el dogma religioso\, sino como transgresiones inherentes al ser humano. Cada escena despliega una experiencia sensorial mediante:\nLenguajes corporales: danza butoh\, mixturas danzadas\, contact\, etc.\nLenguajes vocales: palabra\, sonidos\, entonaciones.\nLenguajes musicales: planos sonoros\, texturas y ambientaciones.\nLenguajes sensoriales: iluminación\, imagen\, aromas\, texturas \nImprovisación dirigida sobre estructura narrativa. Uso de elementos escenográficos\, FX sensoriales (aromas\, luces\, texturas)\, proyecciones visuales. \nMúsicos:\nClarinete y clarinete bajo: Gonzalo Braz\nCello: Ariel Hagman\nPercusión: Matías Moreno Kukurov \nMovimiento Escénico:\nMarina Magistrello\, Marisa Pájaro\, Atilio Schweizer \nPuesta en escena y dirección general:\nClara Mastrango Thau \nDijo la crítica
URL:https://www.gonzalobraz.com.ar/event/praevaricatio-7-itaca-teatro-4/
LOCATION:Ítaca Teatro\, Humahuaca 4027\, CABA\, Buenos Aires\, 1192\, Argentina
CATEGORIES:Danza,Teatro Musical
ATTACH;FMTTYPE=image/jpeg:https://www.gonzalobraz.com.ar/wp-content/uploads/2025/09/PRAEVARICATIO-7.jpg
ORGANIZER;CN="Braz Producciones":MAILTO:info@gonzalobraz.com.ar
END:VEVENT
BEGIN:VEVENT
DTSTART;TZID=America/Argentina/Buenos_Aires:20251127T223000
DTEND;TZID=America/Argentina/Buenos_Aires:20251127T233000
DTSTAMP:20260424T120720
CREATED:20251112T003134Z
LAST-MODIFIED:20251117T215700Z
UID:3440-1764282600-1764286200@www.gonzalobraz.com.ar
SUMMARY:Praevaricatio 7 – Ítaca Teatro #5
DESCRIPTION:Última Función!! \n  \nPraevaricatio 7 es una obra de arte vanguardista minimalista que explora las transgresiones humanas a través de una experiencia sensorial. Integrando música en vivo\, danza\, palabra y visuales\, invitando al espectador a una inmersión emocional y reflexiva\, sumergiéndose en su propio mundo interno\, generando sensaciones profundas y vínculos con lo escénico. La obra se inspira en los siete pecados capitales y sus opuestos\, no desde el dogma religioso\, sino como transgresiones inherentes al ser humano. Cada escena despliega una experiencia sensorial mediante:\nLenguajes corporales: danza butoh\, mixturas danzadas\, contact\, etc.\nLenguajes vocales: palabra\, sonidos\, entonaciones.\nLenguajes musicales: planos sonoros\, texturas y ambientaciones.\nLenguajes sensoriales: iluminación\, imagen\, aromas\, texturas \nImprovisación dirigida sobre estructura narrativa. Uso de elementos escenográficos\, FX sensoriales (aromas\, luces\, texturas)\, proyecciones visuales. \nMúsicos:\nClarinete y clarinete bajo: Gonzalo Braz\nCello: Ariel Hagman\nPercusión: Matías Moreno Kukurov \nMovimiento Escénico:\nMarina Magistrello\, Marisa Pájaro\, Atilio Schweizer \nPuesta en escena y dirección general:\nClara Mastrango Thau \nDijo la crítica
URL:https://www.gonzalobraz.com.ar/event/praevaricatio-7-itaca-teatro-6/
LOCATION:Ítaca Teatro\, Humahuaca 4027\, CABA\, Buenos Aires\, 1192\, Argentina
CATEGORIES:Danza,Teatro Musical
ATTACH;FMTTYPE=image/jpeg:https://www.gonzalobraz.com.ar/wp-content/uploads/2025/09/PRAEVARICATIO-7-2.jpg
ORGANIZER;CN="Braz Producciones":MAILTO:info@gonzalobraz.com.ar
END:VEVENT
END:VCALENDAR